BEGIN:VCALENDAR
VERSION:2.0
PRODID:-//Aclae - ECPv6.15.15//NONSGML v1.0//EN
CALSCALE:GREGORIAN
METHOD:PUBLISH
X-WR-CALNAME:Aclae
X-ORIGINAL-URL:https://aclae.org
X-WR-CALDESC:Eventos para Aclae
REFRESH-INTERVAL;VALUE=DURATION:PT1H
X-Robots-Tag:noindex
X-PUBLISHED-TTL:PT1H
BEGIN:VTIMEZONE
TZID:Europe/Madrid
BEGIN:DAYLIGHT
TZOFFSETFROM:+0100
TZOFFSETTO:+0200
TZNAME:CEST
DTSTART:20230326T010000
END:DAYLIGHT
BEGIN:STANDARD
TZOFFSETFROM:+0200
TZOFFSETTO:+0100
TZNAME:CET
DTSTART:20231029T010000
END:STANDARD
BEGIN:DAYLIGHT
TZOFFSETFROM:+0100
TZOFFSETTO:+0200
TZNAME:CEST
DTSTART:20240331T010000
END:DAYLIGHT
BEGIN:STANDARD
TZOFFSETFROM:+0200
TZOFFSETTO:+0100
TZNAME:CET
DTSTART:20241027T010000
END:STANDARD
BEGIN:DAYLIGHT
TZOFFSETFROM:+0100
TZOFFSETTO:+0200
TZNAME:CEST
DTSTART:20250330T010000
END:DAYLIGHT
BEGIN:STANDARD
TZOFFSETFROM:+0200
TZOFFSETTO:+0100
TZNAME:CET
DTSTART:20251026T010000
END:STANDARD
BEGIN:DAYLIGHT
TZOFFSETFROM:+0100
TZOFFSETTO:+0200
TZNAME:CEST
DTSTART:20260329T010000
END:DAYLIGHT
BEGIN:STANDARD
TZOFFSETFROM:+0200
TZOFFSETTO:+0100
TZNAME:CET
DTSTART:20261025T010000
END:STANDARD
BEGIN:DAYLIGHT
TZOFFSETFROM:+0100
TZOFFSETTO:+0200
TZNAME:CEST
DTSTART:20270328T010000
END:DAYLIGHT
BEGIN:STANDARD
TZOFFSETFROM:+0200
TZOFFSETTO:+0100
TZNAME:CET
DTSTART:20271031T010000
END:STANDARD
END:VTIMEZONE
BEGIN:VEVENT
DTSTART;TZID=Europe/Madrid:20260418T093000
DTEND;TZID=Europe/Madrid:20260418T180000
DTSTAMP:20260419T160506
CREATED:20250926T083334Z
LAST-MODIFIED:20251031T213459Z
UID:11365-1776504600-1776535200@aclae.org
SUMMARY:Mesa redonda: La logoterapia en contexto psiquiátrico. 18 de abril de 2026
DESCRIPTION:Begoña Otero. Médica especialista en psiquiatría por la ULB de Bruselas 2000. Ha ejercido como psiquiatra en diferentes hospitales en Bélgica\, Alemania y actualmente en España\, abarcando su práctica clínica todo el espectro de patología mental grave. Asimismo ha ejercido como psiquiatra penitenciaria tanto en Bélgica como en España. Ha realizado la formación en logoterapia y análisis existencial en Alea Barcelona con Cristina Visiers y Miquel Vilaplana. \nCristina Guinot Fauvell. Graduada en Medicina y Cirugía\, Especialista en Psiquiatría vía MIR por el Consorci Hospitalari Provincial de Castelló. Formada en Logoterapia y Análisis existencial en Alea Barcelona. Formación en Trauma y EMDR a través del Instituto Español de EMDR. Miembro de la Asociación de EMDR de España. Máster en Rehabilitació Psicosocial i Salut Mental Comunitària en la Universitat Jaume I de Castelló. Fundadora y directora de Clínica Nuva: atención integral en Salut Mental\, centro en el cual ejerce su trabajo como psiquiatra y logoterapeuta\, actualmente junto con su equipo interdisciplinar formado por psicólogas\, psiquiatras y fisioterapeutas. \nEnric Armengou. Psiquiatra especializado en el tratamiento y prevención de los trastornos alimentarios y de la conducta suicida. Fundador del centro ABB y director médico de Ita Salud Mental. Como psiquiatra\, desde la visión logoterapéutica\, está enfocado en el acompañamiento a las personas ante las crisis en las diferentes etapas de la vida. Es profesor en la Universidad Abat Oliba y miembro del Patronato de la Fundación Ayuda y Esperanza. Además\, es voluntario del Teléfono de Prevención del Suicidio y del Teléfono de la Esperanza y asesora al Ministerio de Sanidad en el plan nacional de prevención del suicidio.
URL:https://aclae.org/evento/mesa-redonda-la-logoterapia-en-contexto-psiquiatrico-18-de-abril-de-2026/
LOCATION:Cataluña
CATEGORIES:Sentidos de vida
ATTACH;FMTTYPE=image/jpeg:https://aclae.org/wp-content/uploads/2025/09/Mesa-redonda.-La-logoterapia-en-contexto-psiquiatrico.-18-de-abril-de-2026-scaled.jpg
END:VEVENT
BEGIN:VEVENT
DTSTART;TZID=Europe/Madrid:20260207T093000
DTEND;TZID=Europe/Madrid:20260207T180000
DTSTAMP:20260419T160506
CREATED:20250926T083145Z
LAST-MODIFIED:20260129T152226Z
UID:11363-1770456600-1770487200@aclae.org
SUMMARY:Procesos de duelo. 7 de febrero de 2026
DESCRIPTION:SENTIDOS DE VIDA PARA UN MUNDO EN CRISIS: CICLO DE SEMINARIOS SOBRE LA LOGOTERAPIA Y EL ANÁLISIS EXISTENCIAL DE VIKTOR FRANKL\nSEMINARIO 7: Procesos de duelo. 7 de febrero de 2026 .\nEste ciclo está dirigido a profesionales que trabajan con personas\, así como a personas interesadas en la psicoterapia centrada en el sentido según Viktor Frankl. Les abre nuevas perspectivas en el acompañamiento de procesos de cambio\, en situaciones de sufrimiento\, en enfermedades crónicas o terminales\, o\, en el ámbito del crecimiento personal\, la psicohigiene o la pedagogía. \nAporta una mirada propia sobre el ser humano y una base teórica sobre la cual poder desarrollar métodos concretos para aplicarlos en su vida profesional y personal. \nContaremos con docentes que nos hablan de su experiencia en la aplicación de la logoterapia en diferentes ámbitos profesionales \nDocente: Clara Gomis. Dra. en Filosofía y Lic. en Psicología\, profesora de la FPCEE Blanquerna-URL. Especialista en acompañamiento espiritual en cuidados paliativos y enfermedades avanzadas. Docente de los másters universitarios Atenció Pal·liativa Integral a Persones amb Malalties Avançades (UAB-Hospital Sant Pau) y Atenció Pal·liativa a persones amb malalties avançades. (ICO/UVIC-UCC/UB | \nHorario: 9:30h a 18:00h \nLugar: BAUM Barcelona\, c/ Mallorca\, 198\, pral. 1ª \nPrecio: 75€. Soci@s de ACLAE o de entidades colaboradoras: 60€ \n  \nInscripciones aquí
URL:https://aclae.org/evento/procesos-de-duelo-7-de-febrero-de-2026/
LOCATION:BAUM Barcelona\, c/ Mallorca\, 198\, pral. 1ª\, Barcelona\, Cataluña\, 08036\, Spain
CATEGORIES:Sentidos de vida
ATTACH;FMTTYPE=image/jpeg:https://aclae.org/wp-content/uploads/2025/09/Procesos-de-duelo.-7-de-febrero-de-2026-scaled.jpg
END:VEVENT
BEGIN:VEVENT
DTSTART;TZID=Europe/Madrid:20251115T183000
DTEND;TZID=Europe/Madrid:20251115T193000
DTSTAMP:20260419T160506
CREATED:20251031T220438Z
LAST-MODIFIED:20251031T220459Z
UID:11470-1763231400-1763235000@aclae.org
SUMMARY:CONVOCATORIA A LA ASAMBLEA GENERAL ORDINARIA ACLAE 2025
DESCRIPTION:La secretaria de ACLAE\, Ana M. Turk Paulus\, y la presidenta de ACLAE\, Pilar Boixadera\, convocan a todos los socios a la Asamblea General Ordinaria de ACLAE 2025\, que se celebrará en la fecha\, lugar y horario indicados\, con el siguiente orden del día: \nOrden del día: \n\nBalance y cuentas ACLAE 2024.\nEvaluación de los seminarios bimensuales realizados durante todo el año.\nNueva página web de ACLAE.\nBiblioteca en Baum “Joan Rafel Piera”.\nCambios en la junta\, Josep Lluís deja su cargo de vocal por temas personales\, Thais Guerrero será nuevo miembro de la junta.\nCelebración de los 25 años de la existencia de ACLAE.\nImpulso nuevos socios y proyectos.\nRuegos y preguntas.
URL:https://aclae.org/evento/convocatoria-a-la-asamblea-general-ordinaria-aclae-2025/
LOCATION:BAUM Barcelona\, c/ Mallorca\, 198\, pral. 1ª\, Barcelona\, Cataluña\, 08036\, Spain
ATTACH;FMTTYPE=image/jpeg:https://aclae.org/wp-content/uploads/2025/10/ASAMBLEA-GENERAL-ORDINARIA-ACLAE-2025-scaled.jpg
ORGANIZER;CN="ACLAE":MAILTO:info@aclae.org
END:VEVENT
BEGIN:VEVENT
DTSTART;TZID=Europe/Madrid:20251115T093000
DTEND;TZID=Europe/Madrid:20251115T180000
DTSTAMP:20260419T160506
CREATED:20251031T215849Z
LAST-MODIFIED:20251108T073731Z
UID:11467-1763199000-1763229600@aclae.org
SUMMARY:SEMINARIO 6: RECUPERACIÓN DE LA CONFIANZA PRIMORDIAL Y AUMENTO DE LA CAPACIDAD DE AMAR. 15 de noviembre de 2025
DESCRIPTION:¿Se ha perdido la confianza primordial\, originaria? ¿Qué hacer cuando los clientes han perdido la seguridad en los fundamentos de la vida debido a acontecimientos fatídicos y decisivos o a enfermedades graves? Sin esperanza\, el futuro es un espacio vacío y angustioso. El sendero de nuestra vida está dominado por la angustia primigenia. Muchos clientes esperan encontrar recursos curativos en una relación amorosa sólida. Durante el enamoramiento\, el mundo es más colorido y luminoso\, la vida es más enérgica\, más vital. Los anhelos insatisfechos han encontrado finalmente un espacio de resonancia. Muchos clientes quieren a menudo\, ante todo\, ser amados. ¿Puede la relación de pareja ser un refugio después de tantas heridas? ¿Puede ser también una fuente de angustia? ¿Del miedo a ser devorado\, de volver a fracasar? El enfoque logoterapéutico consiste en aumentar la capacidad de amar\, ya que el problema no es que aún no se haya encontrado a la «persona adecuada»\, el problema radica en la capacidad de amar. El amor no es un sentimiento\, es una actitud\ninterior\, una postura. \nEl objetivo psicoterapéutico es desenmascarar las expectativas rígidas que tenemos sobre la vida para comprender mejor las decepciones (los des-engaños)\, lo que permite ver con mayor claridad el sentido potencial de las crisis existenciales. De este modo\, se puede recuperar la sensación de protección y seguridad\, la esperanza y la confianza en la vida. \nDocente: Dra. Heidi Vonwald. Docente de la Universidad Danubio de Krems (Austria)\, terapeuta docente de ABILE (instituto de formación austríaco de logoterapia y análisis existencial)\, de la Universidad Life de Graz. Terapeuta docente en Austria\, Suiza y Tirol del Sur\, con más de 30 años de experiencia como psicoterapeuta en Innsbruck (Austria). \nSe quieres inscribirte\, date de alte aquí
URL:https://aclae.org/evento/seminario-6-recuperacion-de-la-confianza-primordial-y-aumento-de-la-capacidad-de-amar/
LOCATION:BAUM Barcelona\, c/ Mallorca\, 198\, pral. 1ª\, Barcelona\, Cataluña\, 08036\, Spain
CATEGORIES:Sentidos de vida
ATTACH;FMTTYPE=image/jpeg:https://aclae.org/wp-content/uploads/2025/10/RECUPERACION-DE-LA-CONFIANZA-PRIMORDIAL-Y-AUMENTO-scaled.jpg
ORGANIZER;CN="ACLAE":MAILTO:info@aclae.org
END:VEVENT
BEGIN:VEVENT
DTSTART;TZID=Europe/Madrid:20251020T150000
DTEND;TZID=Europe/Madrid:20251020T200000
DTSTAMP:20260419T160506
CREATED:20250926T052451Z
LAST-MODIFIED:20250926T052451Z
UID:11270-1760972400-1760990400@aclae.org
SUMMARY:Màster en Logoteràpia i Anàlisi Existencial
DESCRIPTION:
URL:https://aclae.org/evento/master-en-logoterapia-i-analisi-existencial/
LOCATION:ACLAE\, Carrer Major de Can Caralleu\, 7\, Barcelona\, Barcelona\, 08017\, Spain
ATTACH;FMTTYPE=image/png:https://aclae.org/wp-content/uploads/2025/09/logo-aclae-header.png
ORGANIZER;CN="ACLAE":MAILTO:info@aclae.org
END:VEVENT
BEGIN:VEVENT
DTSTART;TZID=Europe/Madrid:20250920T093000
DTEND;TZID=Europe/Madrid:20250920T180000
DTSTAMP:20260419T160506
CREATED:20250926T083027Z
LAST-MODIFIED:20250926T083027Z
UID:11360-1758360600-1758391200@aclae.org
SUMMARY:Trastornos de personalidad. 20 de septiembre de 2025
DESCRIPTION:Cristina Guinot Fauvell. Graduada en Medicina y Cirugía\, Especialista en Psiquiatría vía MIR por el Consorci Hospitalari Provincial de Castelló. Formada en Logoterapia y Análisis existencial en Alea Barcelona. Formación en Trauma y EMDR a través del Instituto Español de EMDR. Miembro de la Asociación de EMDR de España. Master en Rehabilitació Psicosocial i Salut Mental Comunitària en la Universitat Jaume I de Castelló. Fundadora y directora de Clínica Nuva: atención integral en Salut Mental\, centro en el cual ejerce su trabajo como psiquiatra y logoterapeuta\, actualmente junto con su equipo interdisciplinar formado por psicólogas\, psiquiatras y fisioterapeutas. \nAurea Belda. Graduada en Medicina y Cirugía por la Universitat de València. Médica Especialista en Psiquiatría y Psicoterapia en la LVR-*Klinik en Colonia\, Alemania\, donde posteriormente trabajó como psiquiatra en el ámbito de la rehabilitación de la psiquiatría forense. Entre 2017-2022 ha trabajado en la sala de hospitalización de Salud Mental del Consorcio Hospitalario de Castellón. En 2022 se le encarga la creación del equipo de tratamiento asertivo comunitario de salud mental del departamento de La Plana\, en Castellón\, donde ejerce su trabajo desde entonces paralelamente con la asistencia de pacientes en el CSM de Burriana. Formada en Logoterapia y Análisis existencial en Alea Barcelona con Cristina Visiers y Miquel Vilaplana. Formación en trauma y EMDR a través del Instituto Español de EMDR con Dolores Mosquera\, Francisca García e Isabel Fernández. Miembro de la Asociación de EMDR España.
URL:https://aclae.org/evento/trastornos-de-personalidad-20-de-septiembre-de-2025/
LOCATION:BAUM Barcelona\, c/ Mallorca\, 198\, pral. 1ª\, Barcelona\, Cataluña\, 08036\, Spain
CATEGORIES:Sentidos de vida
ATTACH;FMTTYPE=image/png:https://aclae.org/wp-content/uploads/2025/09/logo-aclae-header.png
ORGANIZER;CN="BAUM Barcelona":MAILTO:info@baum.es
END:VEVENT
BEGIN:VEVENT
DTSTART;TZID=Europe/Madrid:20250614T093000
DTEND;TZID=Europe/Madrid:20250614T180000
DTSTAMP:20260419T160506
CREATED:20250926T082844Z
LAST-MODIFIED:20250926T082844Z
UID:11358-1749893400-1749924000@aclae.org
SUMMARY:Intervención logoterapéutica y trastornos del espectro autista. 14 de junio 2025
DESCRIPTION:Dra. Mª Ángeles Noblejas de la Flor. Doctora en Filosofía y Ciencias de la Educación (Universidad Complutense de Madrid). Orientadora de la Consejería de Educación durante 35 años; experta en Trastornos del Espectro Autista. Terapeuta de orientación centrada en la persona (rogeriana\, Universidad Pontificia de Comillas). Logoterapeuta (Asociación Logoterapéutica Italiana). Psicoterapeuta por la Federación Española de Asociaciones de Psicoterapeutas (FEAP). Miembro fundador y presidenta de la Asociación Española de 2 Logoterapia (AESLO). Directora de la Revista NOUS. Responsable del Trienio de Formación en Logoterapia y Análisis Existencial de AESLO. Ha realizado distintos proyectos de investigación empírica sobre el sentido en la vida en diferentes procesos vitales.
URL:https://aclae.org/evento/intervencion-logoterapeutica-y-trastornos-del-espectro-autista-14-de-junio-2025/
LOCATION:BAUM Barcelona\, c/ Mallorca\, 198\, pral. 1ª\, Barcelona\, Cataluña\, 08036\, Spain
CATEGORIES:Sentidos de vida
ATTACH;FMTTYPE=image/png:https://aclae.org/wp-content/uploads/2025/09/logo-aclae-header.png
ORGANIZER;CN="BAUM Barcelona":MAILTO:info@baum.es
END:VEVENT
BEGIN:VEVENT
DTSTART;TZID=Europe/Madrid:20250412T093000
DTEND;TZID=Europe/Madrid:20250412T180000
DTSTAMP:20260419T160506
CREATED:20250926T082756Z
LAST-MODIFIED:20250926T082756Z
UID:11356-1744450200-1744480800@aclae.org
SUMMARY:Fenomenología y emociones. 12 de abril de 2025
DESCRIPTION:Dr. Daniele Bruzzone. Profesor de pedagogía de la Universidad Católica de Milán\, director del grado de Ciencias de la Educación\, director de la revista internacional “Encyclopaideia: Journal of Phenomenology and Education”\, miembro del Board del Viktor Frankl Institut de Viena.
URL:https://aclae.org/evento/fenomenologia-y-emociones-12-de-abril-de-2025/
LOCATION:BAUM Barcelona\, c/ Mallorca\, 198\, pral. 1ª\, Barcelona\, Cataluña\, 08036\, Spain
CATEGORIES:Sentidos de vida
ATTACH;FMTTYPE=image/png:https://aclae.org/wp-content/uploads/2025/09/logo-aclae-header.png
ORGANIZER;CN="BAUM Barcelona":MAILTO:info@baum.es
END:VEVENT
BEGIN:VEVENT
DTSTART;TZID=Europe/Madrid:20250118T093000
DTEND;TZID=Europe/Madrid:20250118T180000
DTSTAMP:20260419T160506
CREATED:20250926T082700Z
LAST-MODIFIED:20250926T082700Z
UID:11354-1737192600-1737223200@aclae.org
SUMMARY:Prevención de suicidio. 18 de enero de 2025
DESCRIPTION:Enric Armengou. Psiquiatra especializado en el tratamiento y prevención de los trastornos alimentarios y de la conducta suicida. Fundador del centro ABB y director médico de Ita Salud Mental. Como psiquiatra\, desde la visión logoterapéutica\, está enfocado en el acompañamiento a las personas ante las crisis en las diferentes etapas de la vida. Es profesor en la Universidad Abat Oliba y miembro del Patronato de la Fundación Ayuda y Esperanza. Además\, es voluntario del Teléfono de Prevención del Suicidio y del Teléfono de la Esperanza y asesora al Ministerio de Sanidad en el plan nacional de prevención del suicidio. \nAna Mª  Turk. Educadora Social y Licenciada en Geografía e Historia. Especializada en temas migratorios que la llevaron a formarse en Psicogerontología y Logoterapia. Trabajó como Educadora Social en Alemania y como geógrafa con sistemas SIG (sistemas de información geográfica) en los Países Bajos. Aplicó los principios de la logoterapia a jubilados extranjeros y a jóvenes migrantes no acompañados en Bélgica y a mujeres víctimas de violencia de género en Brasil. Actualmente aplica enfoques logoterapéuticos con su participación en el “Teléfono de Prevención del Suicidio” de la Fundación Ayuda y Esperanza de Barcelona. \n Sergio Garcia Diaz. Doctor en Psicología. Psicólogo General Sanitario. Director Técnico Fundación Ayuda y Esperanza. Coordinador del Teléfono de Prevención del Suicidio. Terapia basada en Movimiento Auténtico.
URL:https://aclae.org/evento/prevencion-de-suicidio-18-de-enero-de-2025/
LOCATION:BAUM Barcelona\, c/ Mallorca\, 198\, pral. 1ª\, Barcelona\, Cataluña\, 08036\, Spain
CATEGORIES:Sentidos de vida
ATTACH;FMTTYPE=image/png:https://aclae.org/wp-content/uploads/2025/09/logo-aclae-header.png
ORGANIZER;CN="BAUM Barcelona":MAILTO:info@baum.es
END:VEVENT
BEGIN:VEVENT
DTSTART;TZID=Europe/Madrid:20241116T093000
DTEND;TZID=Europe/Madrid:20241116T180000
DTSTAMP:20260419T160506
CREATED:20250926T081515Z
LAST-MODIFIED:20250926T081553Z
UID:11343-1731749400-1731780000@aclae.org
SUMMARY:Psicotraumatología y Apego. 16 de noviembre de 2024
DESCRIPTION:Maria Àlvarez . Psicóloga\, especialista en psicotraumatología. Psicoterapeuta y docente para la Asociación EXIL en Barcelona.
URL:https://aclae.org/evento/psicotraumatologia-y-apego-16-de-noviembre-de-2024/
LOCATION:BAUM Barcelona\, c/ Mallorca\, 198\, pral. 1ª\, Barcelona\, Cataluña\, 08036\, Spain
CATEGORIES:Sentidos de vida
ATTACH;FMTTYPE=image/png:https://aclae.org/wp-content/uploads/2025/09/logo-aclae-header.png
ORGANIZER;CN="BAUM Barcelona":MAILTO:info@baum.es
END:VEVENT
END:VCALENDAR